Workbook
Name Above_ground: Lists!$B$231
Name Acid_sulphate_soil_liming_rate: 'Assumptions - General'!$C$38
Name Active_Mining_Area__Open_Cut_Void: 'Active Mining Area'!$B$6
Name Activity__Dams: #REF!
Name Activity__Dozer_Bulk_Push_per_LCM: #REF!
Name Activity__Dozer_Rip: #REF!
Name Activity__Grader_Rip_and_Trim: #REF!
Name Activity__Mobilisation___Exploration_and_Quarries: #REF!
Name Activity_Ameliorants: #REF!
Name Activity_Bores: #REF!
Name Activity_Buildings: #REF!
Name Activity_Capping: #REF!
Name Activity_Capping_Investigations_studies_closure_planning_design_and_engineering: #REF!
Name Activity_Care_and_Maintenance: #REF!
Name Activity_Clear_Vegetation_scrub: #REF!
Name Activity_Construct_crest_cell_and_crest_bunding: #REF!
Name Activity_Construct_Landform_and_other_drainage: #REF!
Name Activity_Construct_open_pit_abandonment_bunding__excavate_and_place: #REF!
Name Activity_Contaminated_Materials_Dispose_Off_site: #REF!
Name Activity_Contamination: #REF!
Name Activity_Conveyors: #REF!
Name Activity_Crush_concrete: #REF!
Name Activity_Demolish_concrete_hardstand: #REF!
Name Activity_Disconnect_Utilities_Demolish_and_remove_equipment: #REF!
Name Activity_Drill_and_Blast: #REF!
Name Activity_Excavate_Impacted_Soil_and_Stockpile: #REF!
Name Activity_facilities_sub_rates_large_items_skids_containers: #REF!
Name Activity_Fencing: #REF!
Name Activity_HAZMAT: #REF!
Name Activity_Heliostats_and_Panels: #REF!
Name Activity_Investigations__Operation_and_Maintenance__Testing: #REF!
Name Activity_Investigations_OM_testing: #REF!
Name Activity_Lattice_Structures_and_Ancillary_Facilities: #REF!
Name Activity_Linear_Structures_pipeline_and_cable_tray: #REF!
Name Activity_Load_and_Transport_Concrete: #REF!
Name Activity_Load_and_Transport_Oil: #REF!
Name Activity_Load_and_Transport_Water: #REF!
Name Activity_Load_haul_and_dump_soil_and_amendments: #REF!
Name Activity_Load_haul_dump_bitumen_stabilised_materials_concrete_small_fleet_dispose_onsite_void: #REF!
Name Activity_Load_haul_dump_concrete_solid_waste: #REF!
Name Activity_Load_haul_dump_soil_around_site_small_fleet: #REF!
Name Activity_Load_Haul_Dump_Spread_Fill_Large_Fleet: #REF!
Name Activity_Load_Haul_Dump_Spread_Fill_Medium_Fleet: #REF!
Name Activity_Load_Haul_Dump_Spread_Fill_small_Fleet: #REF!
Name Activity_Load_haul_dump_steel_scrap: #REF!
Name Activity_Load_Haul_Long_Distance_Summary: #REF!
Name Activity_Load_Haul_Summary: #REF!
Name Activity_Load_Transport_Major_Module: #REF!
Name Activity_Loading_Plant: #REF!
Name Activity_Maintenance_Minor_and_of_Rehabilitated_Areas: #REF!
Name Activity_Mobilisation: #REF!
Name Activity_Overpasses: #REF!
Name Activity_planting_seeding: #REF!
Name Activity_Power_Poles_and_Cables: #REF!
Name Activity_Project_Closure_Plans: #REF!
Name Activity_Rail: #REF!
Name Activity_Roads_Tracks_Laydown: #REF!
Name Activity_Shape_and_doze_to_establish_drainage___spread_cover: #REF!
Name Activity_Site_Security: #REF!
Name Activity_Substations: #REF!

Sheet Introduction
B3: Rehabilitation Cost Estimate Tool - Mining New South Wales
B4: RCE Summary
B6: Introduction
B8: The Mining Act 1992 and Petroleum (Onshore) Act 1991 allow the minister (or delegate) to impose a security deposit condition on authorisations or titles granted under these Acts. The security deposit is required for the fulfilment of obligations under the authorisation or title (hereon referred to as an authority) including those related to rehabilitation, and obligations that may arise in the future. Authority holders are required to submit a Rehabilitation Cost Estimate (RCE) whenever a potential change in rehabilitation liability occurs and at other key points throughout the tenure of an authority. The RCE assists the Department in determining the amount of security deposit required for an authority.
B9: The RCE tool provides guidance to exploration, mining and petroleum operators on calculating an appropriate RCE for their operations by assisting in the assessment and qualification of rehabilitation risks and liabilities pursuant to the Mining Act 1992 and Petroleum (Onshore) Act 1991.
B10: Note: the RCE tool does not apply to the sealing of petroleum wells associated with exploration and production activities under the Petroleum (Onshore) Act 1991. Petroleum titleholders can use the RCE tool for guidance on calculating an appropriate RCE for disturbance associated with their activities. However, it is the expected that a separate estimate is submitted for the sealing of petroleum wells with RCE prepared by a suitably qualified expert in consideration of the scale, nature, risk and age associated with petroleum wells specific to the petroleum title.
B11: Prior to calculating an RCE, users need to refer to Guideline: Rehabilitation Cost Estimate, the Rehabilitation Cost Estimate User Manual and the help videos which provide guidance information about, and step by step instructions on how to use the RCE tool. These are available on the Department's website (link below).
B12: www.resources.nsw.gov.au
B14: Calculating an RCE
B15: The framework of the RCE tool has been developed in accordance with a tiered risk-based approach to calculating rehabilitation costs whereby the outcome of the estimation will be based on the nature, size, scale complexity of the operation. While the user has the opportunity to nominate unit rates* which are not the same the default rates in the RCE tool, any other rate proposed by the user must be based on independent third-party costs. This is because if the authority holder defaults on their responsibility to rehabilitate the mine or exploration operation(s), a contractor will need to be engaged by the government to carry out the required rehabilitation works.
B16: *Note: The Department may regularly make changes and updates to the RCE tool as necessary. All users must use the most recent version of the RCE tool available on the Department's website.
B17: Approved Amounts
... B22: A range of fleet sizes is included in the RCE tool to reflect the varying size of earthmoving projects. For large projects, economies of scale can be realised by using larger fleets. It is important the right size fleet is used for each activity to improve the accuracy of the calculation. The table below provides guidance on the selection of fleet sizes.
B23: Fleet Size | C23: Typical Composition | D23: Activities
B24: Small | C24: 740C (ADT) Truck, 980M Loader, 14M Grader, 19kL water truck, D9R Dozer | D24: Load, haul and spread top soil and other growth media materials.
D25: Load, haul and dump bitumen, stabilised materials, demolition rubble and concrete.
D26: Load, haul, dump spread fill (small scale) - waste rock landforms, spoil piles, roadways, contaminated soil footprints, ponds, dams, shallow voids, in-pit and other tailings storage facilities and other fill areas – volumes of materials up to 1.0M m3.
D27: Excavate, load, haul, dump and spread water storage sediment and silt.
B28: Medium | C28: 777G Truck, PC 1250 Excavator, 16M Grader, D10T Dozer | D28: Load, haul, dump, spread fill (medium scale) - Waste rock landforms, spoil piles, roadways, contaminated soil footprints, ponds, dams, shallow voids, in-pit and other tailings storage facilities and other fill areas – volumes of materials up to 5.0M m3.
B29: Large | C29: 793F Truck, EX2500 Excavator, 16M Grader, 785D Water Truck, D11T Dozer | D29: Load, haul, dump, spread bulk material including fill - waste rock landforms, spoil piles, roadways, contaminated soil footprints, ponds, dams, shallow voids, in-pit and other tailings storage facilities and other fill areas – volumes of materials up to 10M m3.
B30: Small Dozers | C30: D6R or D7R | D30: Push / rip lengths <= 100 m
D31: Clear vegetation
D32: Low height waste dumps and spoil dump, TSF embankment slope re-profiling and shaping.
B33: Medium Dozers | C33: D8R or D9R | D33: Push / rip lengths <= 200 m
D34: Clear vegetation
D35: Waste dump, spoil dump, TSF embankment slope re-profiling and shaping.
D36: Shape and doze to establish drainage, spread cover/topsoil/rock mulch layer slopes and flats.
D37: Capping of Waste Rock Dumps, Heap Leach Pads and Tailings Storage Facilities.
B38: Large Dozer | C38: D10T or D11T | D38: Bulk Push / rip lengths <= 200 m
D39: Waste dump, spoil dump, tailings storage facilities embankment slope re-profiling and shaping.
D40: Shape and doze to establish drainage, spread cover/topsoil/rock mulch layer slopes and flats.
D41: Capping of waste rock dumps, heap leach pads and tailings storage facilities.
B42: Small Grader | C42: 12M | D42: Rip / grade to match fleet activities
B43: Medium Grader | C43: 14M | D43: Rip / grade to match fleet activities
B44: Large Grader | C44: 16M | D44: Rip / grade to match fleet activities
B46: Contingency
B47: The contingency allowance is a percentage of the RCE amount for restoring the domains and includes allowances for project management, maintenance and monitoring and pure contingency (see below for further definition). The User can enter a site-specific contingency multiplier on the RCE Summary Sheet. However, this site-specific contingency value cannot be less that the default value. If the default value is not used, quotes must be attached to the RCE application and the User must provide justification in the space provided in the RCE Summary sheet. If a User enters a site-specific contingency multiplier, the tool applies this value instead of the default.
B48: Item | C48: Definition
B49: Project Management | C49: The tool includes a default multiplier for project management costs, which is included in the contingency. The project management multiplier reflects the cost to government to execute a rehabilitation program for a mine and includes: • Health and safety and overall work plans. • Identifying and obtaining permits. • Procurement of contractors and consultants and ongoing contract management. • Ongoing management of the project including scheduling, expenditure tracking and forecasting, internal communication, on-site supervision. • Stakeholder management including land-owner, community, municipal government and regulators, and media. • Consulting and legal costs associated with the above items.
B50: Maintenance and monitoring | C50: The contingency includes an allowance for environmental maintenance and monitoring costs. The environmental maintenance and monitoring multiplier reflects the costs to government to undertake the following: Post-closure maintenance activities: • Minor repair of rehabilitated features eroded by surface water run-off and high intensity rain-fall events. • Revegetation campaigns to rehabilitate areas where vegetation is damaged from drought, fire, animals and/or infertile seed. • Weed management. • Repair of minor subsidence due to poor backfill operations. • Fence and signage repairs. Post-closure monitoring activities: • Environmental, revegetation and erosion monitoring and assessment. • Ground and surface water monitoring and drainage assessment. • Erosion and surface drainage assessments and inspections across all closure areas. • Subsidence and ground movement assessments associated with underground mining. • Engineering, geotechnical and compliance inspections and assessment, surveys and reporting on the performance of the open pits, underground openings and tailings storage facilities. • Weed mapping and assessment surveys. • Feral animal assessment and control. • Independent contamination auditing and assessment. • Satellite imagery for rehabilitation analysis and reporting purposes. • Preparation of annual environmental reporting and monitoring reporting. requirements and data management and control. • Mobilisation and demobilisation of the monitoring and inspection teams.
...

Sheet Revision
B8: =Name_main -> Rehabilitation Cost Estimate Tool - Mining New South Wales
B10: Date | C10: Revision Number | D10: Revision Description
B11: 45961 | C11: 2025-1 | D11: N/A (This is a new RCE Tool which replaces the previous RCE Tool dated 11.06.2024 – Revision No.2024-1).
B12: 45989 | C12: 2025-2 | D12: Fixed locked cell issue in user-build tables.
B13: 46006 | C13: 2025-3 | D13: Changed spine drains rate to per unit area, moved small mines and quarriess mobilisation to other and sundry tab, added exploration mobe rates for greater travel distances, minor calculation and typo fixes.

Sheet Checklist
B2: =Name_main -> Rehabilitation Cost Estimate Tool - Mining New South Wales
B3: =CONCATENATE(CompanyName," - ",Mine_Name) -> Boral Cement - Marulan South Limestone Mine | E3: RCE Summary
B5: Checklist for Lease Holders
B7: Please confirm you have completed the following | D7: Select | E7: Notes
B9: Registration Details Complete | D9: Yes | E9: Add any note to explain.
B11: Previous RCE amounts added to RCE Summary | D11: Yes | E11: Add any note to explain.
B13: Have you attached information for any variation to Departmental rates (e.g. 3rd party quotes justification) | D13: Yes | E13: no document attached, only rate that is different is the D&B rate, using current site $/t
B15: Nominated GIS locations for all items - this is an optional field that can be used by large mines to identify the location of the relevant feature at the domain level (e.g. area of tailings dam). Large mines should populate the GIS Reference field with the Object ID number of the relevant feature from the spatial data submitted to the Mine Rehabilitation Portal. Note: this is not required for small mines. | D15: No

Sheet Key Changes since last RCE
B2: =Name_main -> Rehabilitation Cost Estimate Tool - Mining New South Wales
B3: =CONCATENATE(CompanyName," - ",Mine_Name) -> Boral Cement - Marulan South Limestone Mine | C3: RCE Summary
B5: Key Changes since Last Rehabilitation Cost Estimate
F7: Details should be provided on changes in disturbance areas, new areas of disturbances, and rehabilitated areas. Please use Alt Enter to include a space at the beginning of the text and at the end.
B9: Mining Domain Type | C9: Current Year Cost | D9: Previous Year Cost (*) | E9: Difference | F9: Key changes since previous submission (for each domain or item).
B10: ='RCE Summary'!B32 -> Infrastructure Area | C10: ='RCE Summary'!E32 -> 5086797.4 | D10: 10507614 | E10: =C10-D10 -> -5420816.6 | F10: last year combined with Beneficiation plant
B11: ='RCE Summary'!B33 -> Infrastructure - Mine Entries | C11: ='RCE Summary'!E33 -> 0 | E11: =C11-D11 -> 0
B12: ='RCE Summary'!B35 -> Tailings Storage Facilities | C12: ='RCE Summary'!E35 -> 0 | D12: 353488 | E12: =C12-D12 -> -353488 | F12: under overburden
B13: ='RCE Summary'!B36 -> Water Management Area | C13: ='RCE Summary'!E36 -> 143675.76 | E13: =C13-D13 -> 143675.76 | F13: before included in infrastructure
B14: ='RCE Summary'!B37 -> Overburden Emplacement Area | C14: ='RCE Summary'!E37 -> 3916533.8 | D14: 4913020 | E14: =C14-D14 -> -996486.23 | F14: exact ha for the dumps when before an estimation was used. NOE under Boral Peppertree Management and rehab bank guarantee
B15: ='RCE Summary'!B38 -> Active Mining Area (Open Cut Void) | C15: ='RCE Summary'!E38 -> 4466182.5 | D15: 3460260 | E15: =C15-D15 -> 1005922.5
B16: ='RCE Summary'!B39 -> Underground Mining Areas | C16: ='RCE Summary'!E39 -> 0 | E16: =C16-D16 -> 0
B17: ='RCE Summary'!B34 -> Beneficiation Facility | C17: ='RCE Summary'!E34 -> 6391934.2 | E17: =C17-D17 -> 6391934.2
B18: ='RCE Summary'!B40 -> Exploration | C18: ='RCE Summary'!E40 -> 0 | E18: =C18-D18 -> 0
B19: Sub-total | C19: ='RCE Summary'!E41 -> 20005124 | D19: =SUM(D10:D18) -> 19234382 | E19: =SUM(E10:E18) -> 770741.66
B20: Other Items | C20: Cost | D20: Cost
B21: =Other_and_Sundry -> Other and Sundry | C21: ='RCE Summary'!E43 -> 1268272.1 | D21: 1382390 | E21: =C21-D21 -> -114117.95 | F21: only 2 radiation devices vs 3 last year
B22: Sub-total | C22: ='RCE Summary'!E44 -> 1268272.1 | D22: =SUM(D21:D21) -> 1382390 | E22: =SUM(E21:E21) -> -114117.95
B23: Totals
B24: Subtotal | C24: ='RCE Summary'!E48 -> 21273396 | D24: =D19+D22 -> 20616772 | E24: =E19+E22 -> 656623.72
B25: ='RCE Summary'!B49 -> Contingency (Mining) | C25: ='RCE Summary'!E49 -> 6382018.7 | D25: =2061677*3 -> 6185031 | E25: =C25-D25 -> 196987.71
B26: ='RCE Summary'!B50 -> Contingency (Exploration only) | C26: ='RCE Summary'!E50 -> 0 | E26: =C26-D26 -> 0
B27: Sub-total | C27: ='RCE Summary'!E51 -> 6382018.7 | D27: =D25+D26 -> 6185031 | E27: =E25+E26 -> 196987.71 | F27: Contingency includes contingency, plus post closure environmental monitoring, project management and surveying.
B28: Grand Total (excluding GST) | C28: ='RCE Summary'!E53 -> 27655414 | D28: =D24+D27 -> 26801803 | E28: =E24+E27 -> 853611.43

Sheet RCE Summary
B2: =Name_main -> Rehabilitation Cost Estimate Tool - Mining New South Wales
B3: =CONCATENATE(CompanyName," - ",Mine_Name) -> Boral Cement - Marulan South Limestone Mine
B5: RCE Summary
B8: SITE REGISTRATION
B10: Complete the following fields prior to calculating the Security Deposit.
B12: Date of Estimate | E12: 46265 | G12: Mine Name | I12: Marulan South Limestone Mine
B14: Lease(s): | E14: ML1857
B16: Lease Holder(s): | E16: Boral Cement
B18: Term of RCE: | E18: 55518 | G18: This is period of time over which the RCE amount will apply.
B20: Date of last Security Deposit Review: | E20: 45413 | G20: This is the date of the most recent correspondence from the Department advising of the assessed deposit amount.
B22: Amount of the last Security Deposit Review: | E22: 26814013 | G22: This is the most recent assessed deposit amount as per the most recent correspondence from the Department (see above).
B24: Current Security Deposit held by the Department: | E24: 26814013 | G24: This is the current security deposit amount held by the Department.
B26: List key changes since previous submission: | E26: used new estimation tool updated disturbance and progress of overburden emplacement areas
B29: COST SUMMARY
B31: Mining Domain Type | E31: Cost | F31: Comments
B32: =Infrastructure_Area -> Infrastructure Area | E32: ='Infrastructure Area'!D5 -> 5086797.4
B33: =Infrastructure_Mine_Entries -> Infrastructure - Mine Entries | E33: ='Infrastructure - Mine Entries'!C5 -> 0
B34: =Beneficiation_Facility -> Beneficiation Facility | E34: ='Beneficiation Facility'!D5 -> 6391934.2
B35: =Tailings_Storage_Facilities -> Tailings Storage Facilities | E35: ='Tailings Storage Facilities'!D5 -> 0
B36: Water Management Area | E36: ='Water Management Areas'!D5 -> 143675.76
B37: =Overburden_Emplacement_Area -> Overburden Emplacement Area | E37: ='Overburden Emplacement Area'!D5 -> 3916533.8
B38: =Active_Mining_Area__Open_Cut_Void -> Active Mining Area (Open Cut Void) | E38: ='Active Mining Area'!C6 -> 4466182.5
B39: ='Underground Mining Area'!B6 -> Underground Mining Areas | E39: ='Underground Mining Area'!C6 -> 0
B40: =Exploration!C5 -> Exploration | E40: =Exploration!D5 -> 0
B41: Sub-total | E41: =SUM(E32:E40) -> 20005124
B42: Additional Items | E42: Cost
B43: =Other_and_Sundry -> Other and Sundry | E43: ='Other and Sundry'!G5 -> 1268272.1
B44: Sub-total | E44: =SUM(E43:E43) -> 1268272.1
B45: Totals
B46: Subtotal - all except Exploration | E46: =E41+E44-E40 -> 21273396
B47: Subtotal - Exploration | E47: =E40 -> 0
B48: Subtotal - all | D48: User | E48: =E46+E47 -> 21273396
B49: Contingency (Mining) | C49: 0.3 | E49: =E46*IF(AND(D49<>"",D49>C49),D49,C49) -> 6382018.7 | F49: Enter reason here if contingency greater than default is entered
B50: Contingency (Exploration only) | C50: 0.15 | E50: =E47*IF(AND(D50<>"",D50>C50),D50,C50) -> 0 | F50: Enter reason here if contingency greater than default is entered
B51: Contingency Total | E51: =E49+E50 -> 6382018.7
B53: Grand Total (excluding GST) | E53: =E48+E51 -> 27655414
B55: =IF(OR(D49="",D49>=C49),"Contingency for mining activities ok",CONCATENATE("Contingency for mining activities cannot be less than default. Delete the value or enter a value higher than ",C49*100,"%.")) -> Contingency for mining activities ok
B56: =IF(OR(D50="",D50>=C50),"Contingency for exploration activities ok",CONCATENATE("Contingency for exploration activities cannot be less than default. Delete the value or enter a value higher than ",C50*100,"%.")) -> Contingency for exploration activities ok

Sheet Infrastructure - Mine Entries
B2: =Name_main -> Rehabilitation Cost Estimate Tool - Mining New South Wales
B3: =CONCATENATE(CompanyName," - ",Mine_Name) -> Boral Cement - Marulan South Limestone Mine
B4: Total RCE | C4: =Grand_total -> 27655414
B5: Infrastructure - Mine Entries | C5: =SUM(F5:M5) -> 0 | D5: RCE Summary | E5: Total cost | F5: =F58+F104+F123+F133+F147+F166+F176+F209+F215 -> 0 | G5: =G58+G104+G123+G133+G147+G166+G176+G209+G215 -> 0 | H5: =H58+H104+H123+H133+H147+H166+H176+H209+H215 -> 0 | I5: =I58+I104+I123+I133+I147+I166+I176+I209+I215 -> 0 | J5: =J58+J104+J123+J133+J147+J166+J176+J209+J215 -> 0 | K5: =K58+K104+K123+K133+K147+K166+K176+K209+K215 -> 0 | L5: =L58+L104+L123+L133+L147+L166+L176+L209+L215 -> 0 | M5: =M58+M104+M123+M133+M147+M166+M176+M209+M215 -> 0
B7: Activity | C7: Element | D7: Quantity Name | E7: Unit Name > | F7: Enter shaft name | G7: Enter shaft name | H7: Enter shaft name | I7: Enter shaft name | J7: Enter shaft name | K7: Enter shaft name | L7: Enter shaft name | M7: Enter shaft name | N7: User Notes (including justification for alternate rates) | O7: Department Notes
B8: Notes
B9: GIS | C9: All shafts in the column | D9: GIS reference / Object ID | O9: This is an optional field that can be used by large mines to identify the location of the relevant feature. Large mines should populate the GIS Reference field with the Object ID number of the relevant feature from the spatial data submitted to the Mine Rehabilitation Portal. (Note: this is not required for small mines).
B10: Rehabilitate Ventilation Shafts | C10: Ventilation shafts | D10: Number of shafts if entering a group of shafts | E10: #
B11: Demolish and remove | C11: Vent fans, substation, winch | D11: Qty | E11: # per shaft
D12: Default Rate | E12: $/site | F12: ='Cost Schedule'!$D$104 -> 28135.016 | G12: ='Cost Schedule'!$D$104 -> 28135.016 | H12: ='Cost Schedule'!$D$104 -> 28135.016 | I12: ='Cost Schedule'!$D$104 -> 28135.016 | J12: ='Cost Schedule'!$D$104 -> 28135.016 | K12: ='Cost Schedule'!$D$104 -> 28135.016 | L12: ='Cost Schedule'!$D$104 -> 28135.016 | M12: ='Cost Schedule'!$D$104 -> 28135.016
D13: Alternate Rate | E13: $/site
D14: Cost | E14: $ | F14: =F11*IF(F13="",F12,F13) -> 0 | G14: =G11*IF(G13="",G12,G13) -> 0 | H14: =H11*IF(H13="",H12,H13) -> 0 | I14: =I11*IF(I13="",I12,I13) -> 0 | J14: =J11*IF(J13="",J12,J13) -> 0 | K14: =K11*IF(K13="",K12,K13) -> 0 | L14: =L11*IF(L13="",L12,L13) -> 0 | M14: =M11*IF(M13="",M12,M13) -> 0
B15: Dimensions | C15: Ventilation Shaft (Backfill) | D15: Depth | E15: m | O15: Enter average depth if entering a group into one column.
D16: Diameter | E16: m
D17: Area | E17: m2 | F17: =PI()*F16^2/4 -> 0 | G17: =PI()*G16^2/4 -> 0 | H17: =PI()*H16^2/4 -> 0 | I17: =PI()*I16^2/4 -> 0 | J17: =PI()*J16^2/4 -> 0 | K17: =PI()*K16^2/4 -> 0 | L17: =PI()*L16^2/4 -> 0 | M17: =PI()*M16^2/4 -> 0
D18: Compaction factor | E18: X | F18: ='Assumptions - General'!$C$99 -> 1.25 | G18: ='Assumptions - General'!$C$99 -> 1.25 | H18: ='Assumptions - General'!$C$99 -> 1.25 | I18: ='Assumptions - General'!$C$99 -> 1.25 | J18: ='Assumptions - General'!$C$99 -> 1.25 | K18: ='Assumptions - General'!$C$99 -> 1.25 | L18: ='Assumptions - General'!$C$99 -> 1.25 | M18: ='Assumptions - General'!$C$99 -> 1.25
D19: Shaft Volume | E19: m3 | F19: =F15*F17*F18 -> 0 | G19: =G15*G17*G18 -> 0 | H19: =H15*H17*H18 -> 0 | I19: =I15*I17*I18 -> 0 | J19: =J15*J17*J18 -> 0 | K19: =K15*K17*K18 -> 0 | L19: =L15*L17*L18 -> 0 | M19: =M15*M17*M18 -> 0
D20: Fill Mass | E20: t | F20: =F19*Soil_density_sand -> 0 | G20: =G19*Soil_density_sand -> 0 | H20: =H19*Soil_density_sand -> 0 | I20: =I19*Soil_density_sand -> 0 | J20: =J19*Soil_density_sand -> 0 | K20: =K19*Soil_density_sand -> 0 | L20: =L19*Soil_density_sand -> 0 | M20: =M19*Soil_density_sand -> 0
D21: Proportion of fill sourced on-site | E21: %
D22: Volume of fill sourced on-site | E22: m3 | F22: =F21*F19 -> 0 | G22: =G21*G19 -> 0 | H22: =H21*H19 -> 0 | I22: =I21*I19 -> 0 | J22: =J21*J19 -> 0 | K22: =K21*K19 -> 0 | L22: =L21*L19 -> 0 | M22: =M21*M19 -> 0
D23: Volume of fill sourced off-site | E23: m3 | F23: =F19-F22 -> 0 | G23: =G19-G22 -> 0 | H23: =H19-H22 -> 0 | I23: =I19-I22 -> 0 | J23: =J19-J22 -> 0 | K23: =K19-K22 -> 0 | L23: =L19-L22 -> 0 | M23: =M19-M22 -> 0
B24: Purchase backfill | D24: Default rate | E24: $/t | F24: =Shaft_backfill_rate_R -> 65 | G24: =Shaft_backfill_rate_R -> 65 | H24: =Shaft_backfill_rate_R -> 65 | I24: =Shaft_backfill_rate_R -> 65 | J24: =Shaft_backfill_rate_R -> 65 | K24: =Shaft_backfill_rate_R -> 65 | L24: =Shaft_backfill_rate_R -> 65 | M24: =Shaft_backfill_rate_R -> 65
D25: Alternate rate | E25: $/t
D26: Cost to purchase backfill | E26: $ | F26: =F23*Soil_density_sand*IF(F25="",F24,F25) -> 0 | G26: =G23*Soil_density_sand*IF(G25="",G24,G25) -> 0 | H26: =H23*Soil_density_sand*IF(H25="",H24,H25) -> 0 | I26: =I23*Soil_density_sand*IF(I25="",I24,I25) -> 0 | J26: =J23*Soil_density_sand*IF(J25="",J24,J25) -> 0 | K26: =K23*Soil_density_sand*IF(K25="",K24,K25) -> 0 | L26: =L23*Soil_density_sand*IF(L25="",L24,L25) -> 0 | M26: =M23*Soil_density_sand*IF(M25="",M24,M25) -> 0
B27: Load and haul backfill from off-site | D27: Distance to haul backfill | E27: Select | F27: 25 to 30 km | G27: 25 to 30 km | H27: 25 to 30 km | I27: 25 to 30 km | J27: 25 to 30 km | K27: 25 to 30 km | L27: 25 to 30 km | M27: 25 to 30 km
D28: Default rate | E28: $/t-km | F28: =_xlfn.XLOOKUP(F27,Long_haul_soil_amend_names_mass_CS,Long_haul_soil_amend_rates_mass_CS) -> 0.11650974 | G28: =_xlfn.XLOOKUP(G27,Long_haul_soil_amend_names_mass_CS,Long_haul_soil_amend_rates_mass_CS) -> 0.11650974 | H28: =_xlfn.XLOOKUP(H27,Long_haul_soil_amend_names_mass_CS,Long_haul_soil_amend_rates_mass_CS) -> 0.11650974 | I28: =_xlfn.XLOOKUP(I27,Long_haul_soil_amend_names_mass_CS,Long_haul_soil_amend_rates_mass_CS) -> 0.11650974 | J28: =_xlfn.XLOOKUP(J27,Long_haul_soil_amend_names_mass_CS,Long_haul_soil_amend_rates_mass_CS) -> 0.11650974 | K28: =_xlfn.XLOOKUP(K27,Long_haul_soil_amend_names_mass_CS,Long_haul_soil_amend_rates_mass_CS) -> 0.11650974 | L28: =_xlfn.XLOOKUP(L27,Long_haul_soil_amend_names_mass_CS,Long_haul_soil_amend_rates_mass_CS) -> 0.11650974 | M28: =_xlfn.XLOOKUP(M27,Long_haul_soil_amend_names_mass_CS,Long_haul_soil_amend_rates_mass_CS) -> 0.11650974
D29: Alternate rate | E29: $/t-km
D30: Cost to load and haul backfill | E30: $/hole | F30: =F23*Soil_density_sand*_xlfn.XLOOKUP(F27,Long_haul_distance_names_L,Long_haul_distances_average_L)*IF(F29="",F28,F29) -> 0 | G30: =G23*Soil_density_sand*_xlfn.XLOOKUP(G27,Long_haul_distance_names_L,Long_haul_distances_average_L)*IF(G29="",G28,G29) -> 0 | H30: =H23*Soil_density_sand*_xlfn.XLOOKUP(H27,Long_haul_distance_names_L,Long_haul_distances_average_L)*IF(H29="",H28,H29) -> 0 | I30: =I23*Soil_density_sand*_xlfn.XLOOKUP(I27,Long_haul_distance_names_L,Long_haul_distances_average_L)*IF(I29="",I28,I29) -> 0 | J30: =J23*Soil_density_sand*_xlfn.XLOOKUP(J27,Long_haul_distance_names_L,Long_haul_distances_average_L)*IF(J29="",J28,J29) -> 0 | K30: =K23*Soil_density_sand*_xlfn.XLOOKUP(K27,Long_haul_distance_names_L,Long_haul_distances_average_L)*IF(K29="",K28,K29) -> 0 | L30: =L23*Soil_density_sand*_xlfn.XLOOKUP(L27,Long_haul_distance_names_L,Long_haul_distances_average_L)*IF(L29="",L28,L29) -> 0 | M30: =M23*Soil_density_sand*_xlfn.XLOOKUP(M27,Long_haul_distance_names_L,Long_haul_distances_average_L)*IF(M29="",M28,M29) -> 0
B31: Load and haul backfill | D31: Fleet and distance to haul backfill on-site | E31: Select | F31: Small - Fill - >2500 m to <=3000 m | G31: Small - Fill - >2500 m to <=3000 m | H31: Small - Fill - >2500 m to <=3000 m | I31: Small - Fill - >2500 m to <=3000 m | J31: Small - Fill - >2500 m to <=3000 m | K31: Small - Fill - >2500 m to <=3000 m | L31: Small - Fill - >2500 m to <=3000 m | M31: Small - Fill - >2500 m to <=3000 m | O31: Small fleet recommended
D32: Default rate | E32: $/m3 | F32: =_xlfn.XLOOKUP(F31,Load_haul_fill_names_CS,Load_haul_fill_rates_CS) -> 7.5000816 | G32: =_xlfn.XLOOKUP(G31,Load_haul_fill_names_CS,Load_haul_fill_rates_CS) -> 7.5000816 | H32: =_xlfn.XLOOKUP(H31,Load_haul_fill_names_CS,Load_haul_fill_rates_CS) -> 7.5000816 | I32: =_xlfn.XLOOKUP(I31,Load_haul_fill_names_CS,Load_haul_fill_rates_CS) -> 7.5000816 | J32: =_xlfn.XLOOKUP(J31,Load_haul_fill_names_CS,Load_haul_fill_rates_CS) -> 7.5000816 | K32: =_xlfn.XLOOKUP(K31,Load_haul_fill_names_CS,Load_haul_fill_rates_CS) -> 7.5000816 | L32: =_xlfn.XLOOKUP(L31,Load_haul_fill_names_CS,Load_haul_fill_rates_CS) -> 7.5000816 | M32: =_xlfn.XLOOKUP(M31,Load_haul_fill_names_CS,Load_haul_fill_rates_CS) -> 7.5000816
D33: Alternate rate | E33: $/m3
D34: Cost to load and haul backfill | E34: $ | F34: =F19*IF(F33="",F32,F33) -> 0 | G34: =G19*IF(G33="",G32,G33) -> 0 | H34: =H19*IF(H33="",H32,H33) -> 0 | I34: =I19*IF(I33="",I32,I33) -> 0 | J34: =J19*IF(J33="",J32,J33) -> 0 | K34: =K19*IF(K33="",K32,K33) -> 0 | L34: =L19*IF(L33="",L32,L33) -> 0 | M34: =M19*IF(M33="",M32,M33) -> 0
B35: Plug shaft with concrete | C35: Ventilation shaft (plug) | D35: Will shaft be plugged? | E35: Select | F35: No | G35: No | H35: No | I35: No | J35: No | K35: No | L35: No | M35: No
D36: Thickness | E36: m | F36: =Concrete_plug_thickness -> 3 | G36: =Concrete_plug_thickness -> 3 | H36: =Concrete_plug_thickness -> 3 | I36: =Concrete_plug_thickness -> 3 | J36: =Concrete_plug_thickness -> 3 | K36: =Concrete_plug_thickness -> 3 | L36: =Concrete_plug_thickness -> 3 | M36: =Concrete_plug_thickness -> 3
D37: Volume of concrete | E37: m3 | F37: =IF(F35=No,0,F17*F36*(1.15)) -> 0 | G37: =IF(G35=No,0,G17*G36*(1.15)) -> 0 | H37: =IF(H35=No,0,H17*H36*(1.15)) -> 0 | I37: =IF(I35=No,0,I17*I36*(1.15)) -> 0 | J37: =IF(J35=No,0,J17*J36*(1.15)) -> 0 | K37: =IF(K35=No,0,K17*K36*(1.15)) -> 0 | L37: =IF(L35=No,0,L17*L36*(1.15)) -> 0 | M37: =IF(M35=No,0,M17*M36*(1.15)) -> 0
D38: Default rate to purchase concrete | E38: $/m3 | F38: =IF(F35=No,0,Concrete_for_holes_rate) -> 0 | G38: =IF(G35=No,0,Concrete_for_holes_rate) -> 0 | H38: =IF(H35=No,0,Concrete_for_holes_rate) -> 0 | I38: =IF(I35=No,0,Concrete_for_holes_rate) -> 0 | J38: =IF(J35=No,0,Concrete_for_holes_rate) -> 0 | K38: =IF(K35=No,0,Concrete_for_holes_rate) -> 0 | L38: =IF(L35=No,0,Concrete_for_holes_rate) -> 0 | M38: =IF(M35=No,0,Concrete_for_holes_rate) -> 0
D39: Alternate rate to purchase concrete | E39: $/m3
D40: Cost to purchase concrete | E40: $ | F40: =F37*IF(F39="",F38,F39) -> 0 | G40: =G37*IF(G39="",G38,G39) -> 0 | H40: =H37*IF(H39="",H38,H39) -> 0 | I40: =I37*IF(I39="",I38,I39) -> 0 | J40: =J37*IF(J39="",J38,J39) -> 0 | K40: =K37*IF(K39="",K38,K39) -> 0 | L40: =L37*IF(L39="",L38,L39) -> 0 | M40: =M37*IF(M39="",M38,M39) -> 0
D41: Distance to haul concrete | E41: Select | F41: 40 to 45 km | G41: 40 to 45 km | H41: 40 to 45 km | I41: 40 to 45 km | J41: 40 to 45 km | K41: 40 to 45 km | L41: 40 to 45 km | M41: 40 to 45 km
D42: Default rate to haul concrete | E42: $/m3-km | F42: =IF(F35=No,0,_xlfn.XLOOKUP(F41,Long_haul_concrete_plug_distances_CS,Long_haul_concrete_plug_rates_CS)) -> 0 | G42: =IF(G35=No,0,_xlfn.XLOOKUP(G41,Long_haul_concrete_plug_distances_CS,Long_haul_concrete_plug_rates_CS)) -> 0 | H42: =IF(H35=No,0,_xlfn.XLOOKUP(H41,Long_haul_concrete_plug_distances_CS,Long_haul_concrete_plug_rates_CS)) -> 0 | I42: =IF(I35=No,0,_xlfn.XLOOKUP(I41,Long_haul_concrete_plug_distances_CS,Long_haul_concrete_plug_rates_CS)) -> 0 | J42: =IF(J35=No,0,_xlfn.XLOOKUP(J41,Long_haul_concrete_plug_distances_CS,Long_haul_concrete_plug_rates_CS)) -> 0 | K42: =IF(K35=No,0,_xlfn.XLOOKUP(K41,Long_haul_concrete_plug_distances_CS,Long_haul_concrete_plug_rates_CS)) -> 0 | L42: =IF(L35=No,0,_xlfn.XLOOKUP(L41,Long_haul_concrete_plug_distances_CS,Long_haul_concrete_plug_rates_CS)) -> 0 | M42: =IF(M35=No,0,_xlfn.XLOOKUP(M41,Long_haul_concrete_plug_distances_CS,Long_haul_concrete_plug_rates_CS)) -> 0
...

Sheet Infrastructure Area
C2: =Name_main -> Rehabilitation Cost Estimate Tool - Mining New South Wales
C3: =CONCATENATE(CompanyName," - ",Mine_Name) -> Boral Cement - Marulan South Limestone Mine
C4: Total RCE | D4: =Grand_total -> 27655414
C5: Infrastructure Area | D5: =SUM(G5:P5) -> 5086797.4 | E5: RCE Summary | F5: Total cost | G5: =G15+G21+G53+G72+G78+G88+G103+G109+G116+G122+G132+G138+G143+G149+G169+G184+G190+G211+G228+G234+G270+G300+G331+G348+G372+G410+G427 -> 4028474.5 | H5: =H15+H21+H53+H72+H78+H88+H103+H109+H116+H122+H132+H138+H143+H149+H169+H184+H190+H211+H228+H234+H270+H300+H331+H348+H372+H410+H427 -> 978696.26 | I5: =I15+I21+I53+I72+I78+I88+I103+I109+I116+I122+I132+I138+I143+I149+I169+I184+I190+I211+I228+I234+I270+I300+I331+I348+I372+I410+I427 -> 56297.6 | J5: =J15+J21+J53+J72+J78+J88+J103+J109+J116+J122+J132+J138+J143+J149+J169+J184+J190+J211+J228+J234+J270+J300+J331+J348+J372+J410+J427 -> 8464.566 | K5: =K15+K21+K53+K72+K78+K88+K103+K109+K116+K122+K132+K138+K143+K149+K169+K184+K190+K211+K228+K234+K270+K300+K331+K348+K372+K410+K427 -> 14864.482 | L5: =L15+L21+L53+L72+L78+L88+L103+L109+L116+L122+L132+L138+L143+L149+L169+L184+L190+L211+L228+L234+L270+L300+L331+L348+L372+L410+L427 -> 0 | M5: =M15+M21+M53+M72+M78+M88+M103+M109+M116+M122+M132+M138+M143+M149+M169+M184+M190+M211+M228+M234+M270+M300+M331+M348+M372+M410+M427 -> 0 | N5: =N15+N21+N53+N72+N78+N88+N103+N109+N116+N122+N132+N138+N143+N149+N169+N184+N190+N211+N228+N234+N270+N300+N331+N348+N372+N410+N427 -> 0 | ... P5: =P15+P21+P53+P72+P78+P88+P103+P109+P116+P122+P132+P138+P143+P149+P169+P184+P190+P211+P228+P234+P270+P300+P331+P348+P372+P410+P427 -> 0
C7: Activity | D7: Element | E7: Quantity Name | F7: Unit Name> | G7: all Infrastructure | H7: all Infrastructure | I7: all Infrastructure | J7: all Infrastructure | K7: all Infrastructure | L7: Enter name of Single Item or Group of Items | M7: Enter name of Single Item or Group of Items | N7: Enter name of Single Item or Group of Items | O7: Enter name of Single Item or Group of Items | P7: Enter name of Single Item or Group of Items | Q7: User Notes (including justification for alternate rates) | R7: Department Notes
C8: Notes
C9: GIS | D9: Areas in each column. | E9: GIS reference / Object ID | G9: Infrastructure | H9: Infrastructure | I9: Infrastructure | J9: Infrastructure | K9: Infrastructure | R9: This is an optional field that can be used by large mines to identify the location of the relevant feature. Large mines should populate the GIS Reference field with the Object ID number of the relevant feature from the spatial data submitted to the Mine Rehabilitation Portal. (Note: this is not required for small mines).
C10: Disconnect services (all) | D10: Mine | E10: Type | F10: Select | G10: Disconnect utilities - major site | H10: Disconnect utilities - remote site | I10: Disconnect utilities - remote site | J10: Remove underground utilities | K10: Remove underground utilities | L10: Remove underground utilities | M10: Remove underground utilities | N10: Remove underground utilities | O10: Remove underground utilities | P10: Remove underground utilities
E11: Qty | G11: 1
E12: Default Rate | F12: $/site | G12: =_xlfn.XLOOKUP(G10,Utilities_names_CS,Utilities_rates_CS) -> 35223.859 | H12: =_xlfn.XLOOKUP(H10,Utilities_names_CS,Utilities_rates_CS) -> 6300.8165 | I12: =_xlfn.XLOOKUP(I10,Utilities_names_CS,Utilities_rates_CS) -> 6300.8165 | J12: =_xlfn.XLOOKUP(J10,Utilities_names_CS,Utilities_rates_CS) -> 51703.624 | K12: =_xlfn.XLOOKUP(K10,Utilities_names_CS,Utilities_rates_CS) -> 51703.624 | L12: =_xlfn.XLOOKUP(L10,Utilities_names_CS,Utilities_rates_CS) -> 51703.624 | M12: =_xlfn.XLOOKUP(M10,Utilities_names_CS,Utilities_rates_CS) -> 51703.624 | N12: =_xlfn.XLOOKUP(N10,Utilities_names_CS,Utilities_rates_CS) -> 51703.624 | ... P12: =_xlfn.XLOOKUP(P10,Utilities_names_CS,Utilities_rates_CS) -> 51703.624
E13: Alternate Rate | F13: $/site
E14: Cost | F14: $ | G14: =G11*IF(G13="",G12,G13) -> 35223.859 | H14: =H11*IF(H13="",H12,H13) -> 0 | I14: =I11*IF(I13="",I12,I13) -> 0 | J14: =J11*IF(J13="",J12,J13) -> 0 | K14: =K11*IF(K13="",K12,K13) -> 0 | L14: =L11*IF(L13="",L12,L13) -> 0 | M14: =M11*IF(M13="",M12,M13) -> 0 | N14: =N11*IF(N13="",N12,N13) -> 0 | ... P14: =P11*IF(P13="",P12,P13) -> 0
E15: =C10 -> Disconnect services (all) | F15: total | G15: =G14 -> 35223.859 | H15: =H14 -> 0 | I15: =I14 -> 0 | J15: =J14 -> 0 | K15: =K14 -> 0 | L15: =L14 -> 0 | M15: =M14 -> 0 | N15: =N14 -> 0 | ... P15: =P14 -> 0
C16: Remove and dispose / re-use fencing | D16: Mine | E16: Type | F16: Select | G16: Remove fence (cyclone/wire fence) | H16: Barbed 5 strand cattle fence | I16: Barbed 5 strand cattle fence | J16: Barbed 5 strand cattle fence | K16: Barbed 5 strand cattle fence | L16: Barbed 5 strand cattle fence | M16: Barbed 5 strand cattle fence | N16: Barbed 5 strand cattle fence | O16: Barbed 5 strand cattle fence | P16: Barbed 5 strand cattle fence
E17: Qty | F17: km
E18: Default Rate | F18: $/km | G18: =_xlfn.XLOOKUP(G16,Fencing_names_CS,Fencing_rates_CS) -> 22000 | H18: =_xlfn.XLOOKUP(H16,Fencing_names_CS,Fencing_rates_CS) -> 16995 | I18: =_xlfn.XLOOKUP(I16,Fencing_names_CS,Fencing_rates_CS) -> 16995 | J18: =_xlfn.XLOOKUP(J16,Fencing_names_CS,Fencing_rates_CS) -> 16995 | K18: =_xlfn.XLOOKUP(K16,Fencing_names_CS,Fencing_rates_CS) -> 16995 | L18: =_xlfn.XLOOKUP(L16,Fencing_names_CS,Fencing_rates_CS) -> 16995 | M18: =_xlfn.XLOOKUP(M16,Fencing_names_CS,Fencing_rates_CS) -> 16995 | N18: =_xlfn.XLOOKUP(N16,Fencing_names_CS,Fencing_rates_CS) -> 16995 | ... P18: =_xlfn.XLOOKUP(P16,Fencing_names_CS,Fencing_rates_CS) -> 16995
E19: Alternate Rate | F19: $/km
E20: Cost | F20: $ | G20: =G17*IF(G19="",G18,G19) -> 0 | H20: =H17*IF(H19="",H18,H19) -> 0 | I20: =I17*IF(I19="",I18,I19) -> 0 | J20: =J17*IF(J19="",J18,J19) -> 0 | K20: =K17*IF(K19="",K18,K19) -> 0 | L20: =L17*IF(L19="",L18,L19) -> 0 | M20: =M17*IF(M19="",M18,M19) -> 0 | N20: =N17*IF(N19="",N18,N19) -> 0 | ... P20: =P17*IF(P19="",P18,P19) -> 0
E21: =C16 -> Remove and dispose / re-use fencing | F21: total | G21: =G20 -> 0 | H21: =H20 -> 0 | I21: =I20 -> 0 | J21: =J20 -> 0 | K21: =K20 -> 0 | L21: =L20 -> 0 | M21: =M20 -> 0 | N21: =N20 -> 0 | ... P21: =P20 -> 0
C22: Haul roads restoration | E22: Tupe | F22: Select | G22: Haul Road with Rock Cover | H22: Haul Road with No Cover (Compacted Earth) | I22: Haul Road with No Cover (Compacted Earth) | J22: Haul Road with Rock Cover | K22: Haul Road with Rock Cover | L22: Haul Road with Rock Cover | M22: Haul Road with Rock Cover | N22: Haul Road with Rock Cover | O22: Haul Road with Rock Cover | P22: Haul Road with Rock Cover
E23: Vegetation | F23: Select | G23: Native | H23: Native | I23: Native | J23: Pasture | K23: Pasture | L23: Pasture | M23: Pasture | N23: Pasture | O23: Pasture | P23: Pasture
E24: Select measurement | F24: Select | G24: Area | H24: Area | I24: Area | J24: Area | K24: Area | L24: Area | M24: Area | N24: Area | O24: Area | P24: Area
E25: Quantity - total (km or ha) | F25: Unit below | G25: 16.2
E26: Unit of measure | F26: Unit | G26: =IF(G24=Length,km,ha) -> ha | H26: =IF(H24=Length,km,ha) -> ha | I26: =IF(I24=Length,km,ha) -> ha | J26: =IF(J24=Length,km,ha) -> ha | K26: =IF(K24=Length,km,ha) -> ha | L26: =IF(L24=Length,km,ha) -> ha | M26: =IF(M24=Length,km,ha) -> ha | N26: =IF(N24=Length,km,ha) -> ha | ... P26: =IF(P24=Length,km,ha) -> ha
E27: Default Rate | F27: =CONCATENATE("$/shown unit") -> $/shown unit | G27: =IF(AND(G24=Length,G23=Pasture),_xlfn.XLOOKUP(G22,Haul_roads_length_pasture_names_CS,Haul_roads_length_pasture_rates_CS),IF(AND(G24=Length,G23=Native),_xlfn.XLOOKUP(G22,Haul_roads_length_native_names_CS,Haul_roads_length_native_rates_CS),IF(AND(G24=Length,G23=Arid),_xlfn.XLOOKUP(G22,Haul_roads_length_arid_names_CS,Haul_roads_length_arid_rates_CS),IF(AND(G24=Area,G23=Pasture),_xlfn.XLOOKUP(G22,Haul_roads_area_pasture_names_CS,Haul_roads_area_pasture_rates_CS),IF(AND(G24=Area,G23=Native),_xlfn.XLOOKUP(G22,Haul_roads_area_native_names_CS,Haul_roads_area_native_rates_CS),IF(AND(G24=Area,G23=Arid),_xlfn.XLOOKUP(G22,Haul_roads_area_arid_names_CS,Haul_roads_area_arid_rates_CS))))))) -> 23378.118 | H27: =IF(AND(H24=Length,H23=Pasture),_xlfn.XLOOKUP(H22,Haul_roads_length_pasture_names_CS,Haul_roads_length_pasture_rates_CS),IF(AND(H24=Length,H23=Native),_xlfn.XLOOKUP(H22,Haul_roads_length_native_names_CS,Haul_roads_length_native_rates_CS),IF(AND(H24=Length,H23=Arid),_xlfn.XLOOKUP(H22,Haul_roads_length_arid_names_CS,Haul_roads_length_arid_rates_CS),IF(AND(H24=Area,H23=Pasture),_xlfn.XLOOKUP(H22,Haul_roads_area_pasture_names_CS,Haul_roads_area_pasture_rates_CS),IF(AND(H24=Area,H23=Native),_xlfn.XLOOKUP(H22,Haul_roads_area_native_names_CS,Haul_roads_area_native_rates_CS),IF(AND(H24=Area,H23=Arid),_xlfn.XLOOKUP(H22,Haul_roads_area_arid_names_CS,Haul_roads_area_arid_rates_CS))))))) -> 7244.4487 | I27: =IF(AND(I24=Length,I23=Pasture),_xlfn.XLOOKUP(I22,Haul_roads_length_pasture_names_CS,Haul_roads_length_pasture_rates_CS),IF(AND(I24=Length,I23=Native),_xlfn.XLOOKUP(I22,Haul_roads_length_native_names_CS,Haul_roads_length_native_rates_CS),IF(AND(I24=Length,I23=Arid),_xlfn.XLOOKUP(I22,Haul_roads_length_arid_names_CS,Haul_roads_length_arid_rates_CS),IF(AND(I24=Area,I23=Pasture),_xlfn.XLOOKUP(I22,Haul_roads_area_pasture_names_CS,Haul_roads_area_pasture_rates_CS),IF(AND(I24=Area,I23=Native),_xlfn.XLOOKUP(I22,Haul_roads_area_native_names_CS,Haul_roads_area_native_rates_CS),IF(AND(I24=Area,I23=Arid),_xlfn.XLOOKUP(I22,Haul_roads_area_arid_names_CS,Haul_roads_area_arid_rates_CS))))))) -> 7244.4487 | J27: =IF(AND(J24=Length,J23=Pasture),_xlfn.XLOOKUP(J22,Haul_roads_length_pasture_names_CS,Haul_roads_length_pasture_rates_CS),IF(AND(J24=Length,J23=Native),_xlfn.XLOOKUP(J22,Haul_roads_length_native_names_CS,Haul_roads_length_native_rates_CS),IF(AND(J24=Length,J23=Arid),_xlfn.XLOOKUP(J22,Haul_roads_length_arid_names_CS,Haul_roads_length_arid_rates_CS),IF(AND(J24=Area,J23=Pasture),_xlfn.XLOOKUP(J22,Haul_roads_area_pasture_names_CS,Haul_roads_area_pasture_rates_CS),IF(AND(J24=Area,J23=Native),_xlfn.XLOOKUP(J22,Haul_roads_area_native_names_CS,Haul_roads_area_native_rates_CS),IF(AND(J24=Area,J23=Arid),_xlfn.XLOOKUP(J22,Haul_roads_area_arid_names_CS,Haul_roads_area_arid_rates_CS))))))) -> 21965.771 | K27: =IF(AND(K24=Length,K23=Pasture),_xlfn.XLOOKUP(K22,Haul_roads_length_pasture_names_CS,Haul_roads_length_pasture_rates_CS),IF(AND(K24=Length,K23=Native),_xlfn.XLOOKUP(K22,Haul_roads_length_native_names_CS,Haul_roads_length_native_rates_CS),IF(AND(K24=Length,K23=Arid),_xlfn.XLOOKUP(K22,Haul_roads_length_arid_names_CS,Haul_roads_length_arid_rates_CS),IF(AND(K24=Area,K23=Pasture),_xlfn.XLOOKUP(K22,Haul_roads_area_pasture_names_CS,Haul_roads_area_pasture_rates_CS),IF(AND(K24=Area,K23=Native),_xlfn.XLOOKUP(K22,Haul_roads_area_native_names_CS,Haul_roads_area_native_rates_CS),IF(AND(K24=Area,K23=Arid),_xlfn.XLOOKUP(K22,Haul_roads_area_arid_names_CS,Haul_roads_area_arid_rates_CS))))))) -> 21965.771 | L27: =IF(AND(L24=Length,L23=Pasture),_xlfn.XLOOKUP(L22,Haul_roads_length_pasture_names_CS,Haul_roads_length_pasture_rates_CS),IF(AND(L24=Length,L23=Native),_xlfn.XLOOKUP(L22,Haul_roads_length_native_names_CS,Haul_roads_length_native_rates_CS),IF(AND(L24=Length,L23=Arid),_xlfn.XLOOKUP(L22,Haul_roads_length_arid_names_CS,Haul_roads_length_arid_rates_CS),IF(AND(L24=Area,L23=Pasture),_xlfn.XLOOKUP(L22,Haul_roads_area_pasture_names_CS,Haul_roads_area_pasture_rates_CS),IF(AND(L24=Area,L23=Native),_xlfn.XLOOKUP(L22,Haul_roads_area_native_names_CS,Haul_roads_area_native_rates_CS),IF(AND(L24=Area,L23=Arid),_xlfn.XLOOKUP(L22,Haul_roads_area_arid_names_CS,Haul_roads_area_arid_rates_CS))))))) -> 21965.771 | M27: =IF(AND(M24=Length,M23=Pasture),_xlfn.XLOOKUP(M22,Haul_roads_length_pasture_names_CS,Haul_roads_length_pasture_rates_CS),IF(AND(M24=Length,M23=Native),_xlfn.XLOOKUP(M22,Haul_roads_length_native_names_CS,Haul_roads_length_native_rates_CS),IF(AND(M24=Length,M23=Arid),_xlfn.XLOOKUP(M22,Haul_roads_length_arid_names_CS,Haul_roads_length_arid_rates_CS),IF(AND(M24=Area,M23=Pasture),_xlfn.XLOOKUP(M22,Haul_roads_area_pasture_names_CS,Haul_roads_area_pasture_rates_CS),IF(AND(M24=Area,M23=Native),_xlfn.XLOOKUP(M22,Haul_roads_area_native_names_CS,Haul_roads_area_native_rates_CS),IF(AND(M24=Area,M23=Arid),_xlfn.XLOOKUP(M22,Haul_roads_area_arid_names_CS,Haul_roads_area_arid_rates_CS))))))) -> 21965.771 | N27: =IF(AND(N24=Length,N23=Pasture),_xlfn.XLOOKUP(N22,Haul_roads_length_pasture_names_CS,Haul_roads_length_pasture_rates_CS),IF(AND(N24=Length,N23=Native),_xlfn.XLOOKUP(N22,Haul_roads_length_native_names_CS,Haul_roads_length_native_rates_CS),IF(AND(N24=Length,N23=Arid),_xlfn.XLOOKUP(N22,Haul_roads_length_arid_names_CS,Haul_roads_length_arid_rates_CS),IF(AND(N24=Area,N23=Pasture),_xlfn.XLOOKUP(N22,Haul_roads_area_pasture_names_CS,Haul_roads_area_pasture_rates_CS),IF(AND(N24=Area,N23=Native),_xlfn.XLOOKUP(N22,Haul_roads_area_native_names_CS,Haul_roads_area_native_rates_CS),IF(AND(N24=Area,N23=Arid),_xlfn.XLOOKUP(N22,Haul_roads_area_arid_names_CS,Haul_roads_area_arid_rates_CS))))))) -> 21965.771 | ... P27: =IF(AND(P24=Length,P23=Pasture),_xlfn.XLOOKUP(P22,Haul_roads_length_pasture_names_CS,Haul_roads_length_pasture_rates_CS),IF(AND(P24=Length,P23=Native),_xlfn.XLOOKUP(P22,Haul_roads_length_native_names_CS,Haul_roads_length_native_rates_CS),IF(AND(P24=Length,P23=Arid),_xlfn.XLOOKUP(P22,Haul_roads_length_arid_names_CS,Haul_roads_length_arid_rates_CS),IF(AND(P24=Area,P23=Pasture),_xlfn.XLOOKUP(P22,Haul_roads_area_pasture_names_CS,Haul_roads_area_pasture_rates_CS),IF(AND(P24=Area,P23=Native),_xlfn.XLOOKUP(P22,Haul_roads_area_native_names_CS,Haul_roads_area_native_rates_CS),IF(AND(P24=Area,P23=Arid),_xlfn.XLOOKUP(P22,Haul_roads_area_arid_names_CS,Haul_roads_area_arid_rates_CS))))))) -> 21965.771
E28: Alternate Rate | F28: =CONCATENATE("$/shown unit") -> $/shown unit
E29: Cost | F29: $ | G29: =G25*IF(G28="",G27,G28) -> 378725.51 | H29: =H25*IF(H28="",H27,H28) -> 0 | I29: =I25*IF(I28="",I27,I28) -> 0 | J29: =J25*IF(J28="",J27,J28) -> 0 | K29: =K25*IF(K28="",K27,K28) -> 0 | L29: =L25*IF(L28="",L27,L28) -> 0 | M29: =M25*IF(M28="",M27,M28) -> 0 | N29: =N25*IF(N28="",N27,N28) -> 0 | ... P29: =P25*IF(P28="",P27,P28) -> 0
C30: Tracks restoration | E30: Select type | F30: Select | G30: Track / Park-up with Rock / Gravel / Bitumen Cover | H30: Track / Park-up with Rock / Gravel / Bitumen Cover | I30: Track / Park-up with No Cover (Compacted Earth) | J30: Track / Park-up with Minimal Work,windrows, No vegetation | K30: Track / Park-up with Minimal Work,windrows, No vegetation | L30: Track / Park-up with Minimal Work,windrows, No vegetation | M30: Track / Park-up with Minimal Work,windrows, No vegetation | N30: Track / Park-up with Minimal Work,windrows, No vegetation | O30: Track / Park-up with Minimal Work,windrows, No vegetation | P30: Track / Park-up with Minimal Work,windrows, No vegetation
E31: Select land type | F31: Select | G31: Arid | H31: Native | I31: Pasture | J31: Pasture | K31: Pasture | L31: Pasture | M31: Pasture | N31: Pasture | O31: Pasture | P31: Pasture
E32: Select measurement | F32: Select | G32: Length | H32: Length | I32: Length | J32: Area | K32: Area | L32: Area | M32: Area | N32: Area | O32: Area | P32: Area
E33: Quantity - total (of km or ha) | F33: Unit below
E34: Unit of measure | F34: Unit | G34: =IF(G32=Length,km,ha) -> km | H34: =IF(H32=Length,km,ha) -> km | I34: =IF(I32=Length,km,ha) -> km | J34: =IF(J32=Length,km,ha) -> ha | K34: =IF(K32=Length,km,ha) -> ha | L34: =IF(L32=Length,km,ha) -> ha | M34: =IF(M32=Length,km,ha) -> ha | N34: =IF(N32=Length,km,ha) -> ha | ... P34: =IF(P32=Length,km,ha) -> ha
E35: Default Rate by length | F35: =CONCATENATE("$/shown unit") -> $/shown unit | G35: =IF(AND(G32=Length,G31=Pasture),_xlfn.XLOOKUP(G30,Track_length_pasture_names_CS,Track_length_pasture_rates_CS),IF(AND(G32=Length,G31=Native),_xlfn.XLOOKUP(G30,Track_length_native_names_CS,Track_length_native_rates_CS),IF(AND(G32=Length,G31=Arid),_xlfn.XLOOKUP(G30,Track_length_arid_names_CS,Track_length_arid_rates_CS),IF(AND(G32=Area,G31=Pasture),_xlfn.XLOOKUP(G30,Track_area_pasture_names_CS,Track_area_pasture_rates_CS),IF(AND(G32=Area,G31=Native),_xlfn.XLOOKUP(G30,Track_area_native_names_CS,Track_area_native_rates_CS),IF(AND(G32=Area,G31=Arid),_xlfn.XLOOKUP(G30,Track_area_arid_names_CS,Track_area_arid_rates_CS))))))) -> 7597.6114 | H35: =IF(AND(H32=Length,H31=Pasture),_xlfn.XLOOKUP(H30,Track_length_pasture_names_CS,Track_length_pasture_rates_CS),IF(AND(H32=Length,H31=Native),_xlfn.XLOOKUP(H30,Track_length_native_names_CS,Track_length_native_rates_CS),IF(AND(H32=Length,H31=Arid),_xlfn.XLOOKUP(H30,Track_length_arid_names_CS,Track_length_arid_rates_CS),IF(AND(H32=Area,H31=Pasture),_xlfn.XLOOKUP(H30,Track_area_pasture_names_CS,Track_area_pasture_rates_CS),IF(AND(H32=Area,H31=Native),_xlfn.XLOOKUP(H30,Track_area_native_names_CS,Track_area_native_rates_CS),IF(AND(H32=Area,H31=Arid),_xlfn.XLOOKUP(H30,Track_area_arid_names_CS,Track_area_arid_rates_CS))))))) -> 10101.299 | I35: =IF(AND(I32=Length,I31=Pasture),_xlfn.XLOOKUP(I30,Track_length_pasture_names_CS,Track_length_pasture_rates_CS),IF(AND(I32=Length,I31=Native),_xlfn.XLOOKUP(I30,Track_length_native_names_CS,Track_length_native_rates_CS),IF(AND(I32=Length,I31=Arid),_xlfn.XLOOKUP(I30,Track_length_arid_names_CS,Track_length_arid_rates_CS),IF(AND(I32=Area,I31=Pasture),_xlfn.XLOOKUP(I30,Track_area_pasture_names_CS,Track_area_pasture_rates_CS),IF(AND(I32=Area,I31=Native),_xlfn.XLOOKUP(I30,Track_area_native_names_CS,Track_area_native_rates_CS),IF(AND(I32=Area,I31=Arid),_xlfn.XLOOKUP(I30,Track_area_arid_names_CS,Track_area_arid_rates_CS))))))) -> 3700.508 | J35: =IF(AND(J32=Length,J31=Pasture),_xlfn.XLOOKUP(J30,Track_length_pasture_names_CS,Track_length_pasture_rates_CS),IF(AND(J32=Length,J31=Native),_xlfn.XLOOKUP(J30,Track_length_native_names_CS,Track_length_native_rates_CS),IF(AND(J32=Length,J31=Arid),_xlfn.XLOOKUP(J30,Track_length_arid_names_CS,Track_length_arid_rates_CS),IF(AND(J32=Area,J31=Pasture),_xlfn.XLOOKUP(J30,Track_area_pasture_names_CS,Track_area_pasture_rates_CS),IF(AND(J32=Area,J31=Native),_xlfn.XLOOKUP(J30,Track_area_native_names_CS,Track_area_native_rates_CS),IF(AND(J32=Area,J31=Arid),_xlfn.XLOOKUP(J30,Track_area_arid_names_CS,Track_area_arid_rates_CS))))))) -> 1805.4927 | K35: =IF(AND(K32=Length,K31=Pasture),_xlfn.XLOOKUP(K30,Track_length_pasture_names_CS,Track_length_pasture_rates_CS),IF(AND(K32=Length,K31=Native),_xlfn.XLOOKUP(K30,Track_length_native_names_CS,Track_length_native_rates_CS),IF(AND(K32=Length,K31=Arid),_xlfn.XLOOKUP(K30,Track_length_arid_names_CS,Track_length_arid_rates_CS),IF(AND(K32=Area,K31=Pasture),_xlfn.XLOOKUP(K30,Track_area_pasture_names_CS,Track_area_pasture_rates_CS),IF(AND(K32=Area,K31=Native),_xlfn.XLOOKUP(K30,Track_area_native_names_CS,Track_area_native_rates_CS),IF(AND(K32=Area,K31=Arid),_xlfn.XLOOKUP(K30,Track_area_arid_names_CS,Track_area_arid_rates_CS))))))) -> 1805.4927 | L35: =IF(AND(L32=Length,L31=Pasture),_xlfn.XLOOKUP(L30,Track_length_pasture_names_CS,Track_length_pasture_rates_CS),IF(AND(L32=Length,L31=Native),_xlfn.XLOOKUP(L30,Track_length_native_names_CS,Track_length_native_rates_CS),IF(AND(L32=Length,L31=Arid),_xlfn.XLOOKUP(L30,Track_length_arid_names_CS,Track_length_arid_rates_CS),IF(AND(L32=Area,L31=Pasture),_xlfn.XLOOKUP(L30,Track_area_pasture_names_CS,Track_area_pasture_rates_CS),IF(AND(L32=Area,L31=Native),_xlfn.XLOOKUP(L30,Track_area_native_names_CS,Track_area_native_rates_CS),IF(AND(L32=Area,L31=Arid),_xlfn.XLOOKUP(L30,Track_area_arid_names_CS,Track_area_arid_rates_CS))))))) -> 1805.4927 | M35: =IF(AND(M32=Length,M31=Pasture),_xlfn.XLOOKUP(M30,Track_length_pasture_names_CS,Track_length_pasture_rates_CS),IF(AND(M32=Length,M31=Native),_xlfn.XLOOKUP(M30,Track_length_native_names_CS,Track_length_native_rates_CS),IF(AND(M32=Length,M31=Arid),_xlfn.XLOOKUP(M30,Track_length_arid_names_CS,Track_length_arid_rates_CS),IF(AND(M32=Area,M31=Pasture),_xlfn.XLOOKUP(M30,Track_area_pasture_names_CS,Track_area_pasture_rates_CS),IF(AND(M32=Area,M31=Native),_xlfn.XLOOKUP(M30,Track_area_native_names_CS,Track_area_native_rates_CS),IF(AND(M32=Area,M31=Arid),_xlfn.XLOOKUP(M30,Track_area_arid_names_CS,Track_area_arid_rates_CS))))))) -> 1805.4927 | N35: =IF(AND(N32=Length,N31=Pasture),_xlfn.XLOOKUP(N30,Track_length_pasture_names_CS,Track_length_pasture_rates_CS),IF(AND(N32=Length,N31=Native),_xlfn.XLOOKUP(N30,Track_length_native_names_CS,Track_length_native_rates_CS),IF(AND(N32=Length,N31=Arid),_xlfn.XLOOKUP(N30,Track_length_arid_names_CS,Track_length_arid_rates_CS),IF(AND(N32=Area,N31=Pasture),_xlfn.XLOOKUP(N30,Track_area_pasture_names_CS,Track_area_pasture_rates_CS),IF(AND(N32=Area,N31=Native),_xlfn.XLOOKUP(N30,Track_area_native_names_CS,Track_area_native_rates_CS),IF(AND(N32=Area,N31=Arid),_xlfn.XLOOKUP(N30,Track_area_arid_names_CS,Track_area_arid_rates_CS))))))) -> 1805.4927 | ... P35: =IF(AND(P32=Length,P31=Pasture),_xlfn.XLOOKUP(P30,Track_length_pasture_names_CS,Track_length_pasture_rates_CS),IF(AND(P32=Length,P31=Native),_xlfn.XLOOKUP(P30,Track_length_native_names_CS,Track_length_native_rates_CS),IF(AND(P32=Length,P31=Arid),_xlfn.XLOOKUP(P30,Track_length_arid_names_CS,Track_length_arid_rates_CS),IF(AND(P32=Area,P31=Pasture),_xlfn.XLOOKUP(P30,Track_area_pasture_names_CS,Track_area_pasture_rates_CS),IF(AND(P32=Area,P31=Native),_xlfn.XLOOKUP(P30,Track_area_native_names_CS,Track_area_native_rates_CS),IF(AND(P32=Area,P31=Arid),_xlfn.XLOOKUP(P30,Track_area_arid_names_CS,Track_area_arid_rates_CS))))))) -> 1805.4927
E36: Alternate Rate by length | F36: =CONCATENATE("$/shown unit") -> $/shown unit
E37: Cost | F37: $ | G37: =G33*IF(G36="",G35,G36) -> 0 | H37: =H33*IF(H36="",H35,H36) -> 0 | I37: =I33*IF(I36="",I35,I36) -> 0 | J37: =J33*IF(J36="",J35,J36) -> 0 | K37: =K33*IF(K36="",K35,K36) -> 0 | L37: =L33*IF(L36="",L35,L36) -> 0 | M37: =M33*IF(M36="",M35,M36) -> 0 | N37: =N33*IF(N36="",N35,N36) -> 0 | ... P37: =P33*IF(P36="",P35,P36) -> 0
C38: Laydown restoration | E38: Select type | F38: Select | G38: Laydown with No Cover (Compacted Earth) in Native | H38: Laydown with No Cover (Compacted Earth) in Native | I38: Laydown with No Cover (Compacted Earth) in Native | J38: Laydown with Minimal Work, No vegetation in Pasture | K38: Laydown with Minimal Work, No vegetation in Pasture | L38: Laydown with Minimal Work, No vegetation in Pasture | M38: Laydown with Minimal Work, No vegetation in Pasture | N38: Laydown with Minimal Work, No vegetation in Pasture | O38: Laydown with Minimal Work, No vegetation in Pasture | P38: Laydown with Minimal Work, No vegetation in Pasture
E39: Area | F39: ha | G39: 6.4
E40: Default rate | F40: $/ha | G40: =_xlfn.XLOOKUP(G38,Laydown_names_CS,Laydown_rates_CS) -> 18830.728 | H40: =_xlfn.XLOOKUP(H38,Laydown_names_CS,Laydown_rates_CS) -> 18830.728 | I40: =_xlfn.XLOOKUP(I38,Laydown_names_CS,Laydown_rates_CS) -> 18830.728 | J40: =_xlfn.XLOOKUP(J38,Laydown_names_CS,Laydown_rates_CS) -> 1230.1934 | K40: =_xlfn.XLOOKUP(K38,Laydown_names_CS,Laydown_rates_CS) -> 1230.1934 | L40: =_xlfn.XLOOKUP(L38,Laydown_names_CS,Laydown_rates_CS) -> 1230.1934 | M40: =_xlfn.XLOOKUP(M38,Laydown_names_CS,Laydown_rates_CS) -> 1230.1934 | N40: =_xlfn.XLOOKUP(N38,Laydown_names_CS,Laydown_rates_CS) -> 1230.1934 | ... P40: =_xlfn.XLOOKUP(P38,Laydown_names_CS,Laydown_rates_CS) -> 1230.1934
E41: Alternate rate | F41: $/ha
E42: Cost | F42: $ | G42: =G39*IF(G41="",G40,G41) -> 120516.66 | H42: =H39*IF(H41="",H40,H41) -> 0 | I42: =I39*IF(I41="",I40,I41) -> 0 | J42: =J39*IF(J41="",J40,J41) -> 0 | K42: =K39*IF(K41="",K40,K41) -> 0 | L42: =L39*IF(L41="",L40,L41) -> 0 | M42: =M39*IF(M41="",M40,M41) -> 0 | N42: =N39*IF(N41="",N40,N41) -> 0 | ... P42: =P39*IF(P41="",P40,P41) -> 0
...

Sheet Beneficiation Facility
C2: =Name_main -> Rehabilitation Cost Estimate Tool - Mining New South Wales
C3: =CONCATENATE(CompanyName," - ",Mine_Name) -> Boral Cement - Marulan South Limestone Mine
C4: Total RCE | D4: =Grand_total -> 27655414
C5: Beneficiation Facility | D5: =SUM(G5:P5) -> 6391934.2 | E5: RCE Summary | F5: Total cost | G5: =G16+G78+G98+G105+G159+G169+G193+G208+G218+G224+G245+G262+G268+G295+G314+G335+G372+G388+G407+G419+G441+G457+G488+G500 -> 2984308.7 | H5: =H16+H78+H98+H105+H159+H169+H193+H208+H218+H224+H245+H262+H268+H295+H314+H335+H372+H388+H407+H419+H441+H457+H488+H500 -> 1328445.3 | I5: =I16+I78+I98+I105+I159+I169+I193+I208+I218+I224+I245+I262+I268+I295+I314+I335+I372+I388+I407+I419+I441+I457+I488+I500 -> 1868295.4 | J5: =J16+J78+J98+J105+J159+J169+J193+J208+J218+J224+J245+J262+J268+J295+J314+J335+J372+J388+J407+J419+J441+J457+J488+J500 -> 210884.75 | K5: =K16+K78+K98+K105+K159+K169+K193+K208+K218+K224+K245+K262+K268+K295+K314+K335+K372+K388+K407+K419+K441+K457+K488+K500 -> 0 | L5: =L16+L78+L98+L105+L159+L169+L193+L208+L218+L224+L245+L262+L268+L295+L314+L335+L372+L388+L407+L419+L441+L457+L488+L500 -> 0 | M5: =M16+M78+M98+M105+M159+M169+M193+M208+M218+M224+M245+M262+M268+M295+M314+M335+M372+M388+M407+M419+M441+M457+M488+M500 -> 0 | N5: =N16+N78+N98+N105+N159+N169+N193+N208+N218+N224+N245+N262+N268+N295+N314+N335+N372+N388+N407+N419+N441+N457+N488+N500 -> 0 | ... P5: =P16+P78+P98+P105+P159+P169+P193+P208+P218+P224+P245+P262+P268+P295+P314+P335+P372+P388+P407+P419+P441+P457+P488+P500 -> 0
C7: For each column, the user enters quantities to either this table or the user build table below. Quantities should not be entered to both. The table directly below is default rates.
C8: Activity | D8: Element | E8: Quantity Name | F8: Unit Name> | G8: plant | H8: plant 1 | I8: Plant 2 | J8: Enter Name | K8: Enter Name | L8: Enter Name | M8: Enter Name | N8: Enter Name | O8: Enter Name | P8: Enter Name | Q8: User Notes (including justification for alternate rates) | R8: Department Notes
C9: Notes
C10: GIS | D10: All items in column | E10: GIS reference / Object ID | G10: PLant | R10: This is an optional field that can be used by large mines to identify the location of the relevant feature. Large mines should populate the GIS Reference field with the Object ID number of the relevant feature from the spatial data submitted to the Mine Rehabilitation Portal. (Note: this is not required for small mines).
C11: Heap leach Pads (Default rates) | D11: Risk category | E11: Risk Level | G11: HLP Default - High risk | H11: HLP Default - Medium risk | I11: HLP Default - Medium risk | J11: HLP Default - Very Low risk | K11: HLP Default - High risk | L11: HLP Default - High risk | M11: HLP Default - High risk | N11: HLP Default - High risk | O11: HLP Default - High risk | P11: HLP Default - High risk
D12: Footprint | E12: Area | F12: ha
E13: Default Rate | F13: $/ha | G13: =_xlfn.XLOOKUP(G11,HLP_names_CS,HLP_rates_CS) -> 273785.66 | H13: =_xlfn.XLOOKUP(H11,HLP_names_CS,HLP_rates_CS) -> 160958.01 | I13: =_xlfn.XLOOKUP(I11,HLP_names_CS,HLP_rates_CS) -> 160958.01 | J13: =_xlfn.XLOOKUP(J11,HLP_names_CS,HLP_rates_CS) -> 66137.27 | K13: =_xlfn.XLOOKUP(K11,HLP_names_CS,HLP_rates_CS) -> 273785.66 | L13: =_xlfn.XLOOKUP(L11,HLP_names_CS,HLP_rates_CS) -> 273785.66 | M13: =_xlfn.XLOOKUP(M11,HLP_names_CS,HLP_rates_CS) -> 273785.66 | N13: =_xlfn.XLOOKUP(N11,HLP_names_CS,HLP_rates_CS) -> 273785.66 | ... P13: =_xlfn.XLOOKUP(P11,HLP_names_CS,HLP_rates_CS) -> 273785.66
E14: Alternate Rate | F14: $/ha
E15: Cost | F15: $ | G15: =G12*IF(G14="",G13,G14) -> 0 | H15: =H12*IF(H14="",H13,H14) -> 0 | I15: =I12*IF(I14="",I13,I14) -> 0 | J15: =J12*IF(J14="",J13,J14) -> 0 | K15: =K12*IF(K14="",K13,K14) -> 0 | L15: =L12*IF(L14="",L13,L14) -> 0 | M15: =M12*IF(M14="",M13,M14) -> 0 | N15: =N12*IF(N14="",N13,N14) -> 0 | ... P15: =P12*IF(P14="",P13,P14) -> 0
E16: =C11 -> Heap leach Pads (Default rates) | F16: $ | G16: =G15 -> 0 | H16: =H15 -> 0 | I16: =I15 -> 0 | J16: =J15 -> 0 | K16: =K15 -> 0 | L16: =L15 -> 0 | M16: =M15 -> 0 | N16: =N15 -> 0 | ... P16: =P15 -> 0
